BEGIN:VCALENDAR
VERSION:2.0
PRODID:-//Cedar Ridge Equine - Home of JA Performance Horses - ECPv6.15.14//NONSGML v1.0//EN
CALSCALE:GREGORIAN
METHOD:PUBLISH
X-WR-CALNAME:Cedar Ridge Equine - Home of JA Performance Horses
X-ORIGINAL-URL:https://cedarridgeequine.com
X-WR-CALDESC:Events for Cedar Ridge Equine - Home of JA Performance Horses
REFRESH-INTERVAL;VALUE=DURATION:PT1H
X-Robots-Tag:noindex
X-PUBLISHED-TTL:PT1H
BEGIN:VTIMEZONE
TZID:America/Los_Angeles
BEGIN:DAYLIGHT
TZOFFSETFROM:-0800
TZOFFSETTO:-0700
TZNAME:PDT
DTSTART:20250309T100000
END:DAYLIGHT
BEGIN:STANDARD
TZOFFSETFROM:-0700
TZOFFSETTO:-0800
TZNAME:PST
DTSTART:20251102T090000
END:STANDARD
BEGIN:DAYLIGHT
TZOFFSETFROM:-0800
TZOFFSETTO:-0700
TZNAME:PDT
DTSTART:20260308T100000
END:DAYLIGHT
BEGIN:STANDARD
TZOFFSETFROM:-0700
TZOFFSETTO:-0800
TZNAME:PST
DTSTART:20261101T090000
END:STANDARD
BEGIN:DAYLIGHT
TZOFFSETFROM:-0800
TZOFFSETTO:-0700
TZNAME:PDT
DTSTART:20270314T100000
END:DAYLIGHT
BEGIN:STANDARD
TZOFFSETFROM:-0700
TZOFFSETTO:-0800
TZNAME:PST
DTSTART:20271107T090000
END:STANDARD
END:VTIMEZONE
BEGIN:VEVENT
DTSTART;VALUE=DATE:20260615
DTEND;VALUE=DATE:20260618
DTSTAMP:20260419T091915
CREATED:20260106T142632Z
LAST-MODIFIED:20260120T215609Z
UID:2476-1781481600-1781740799@cedarridgeequine.com
SUMMARY:Stable Hand Program
DESCRIPTION:Dates are available for each of the 3 day Beginner Horsemanship Lesson Series. You can sign up for a day or all three\, you do not have to participate in lesson series to participate in stable hand dates. \nThis program will be more in depth manner on the care of horses\, more than the horsemanship lesson series cover. There will be NO riding of horses. Stable hands will learn how to feed depending on the horses’ individual requirements\, organize and clean tack & equipment\, maintain and repair fencing and arenas\, remove manure\, and safe handling and proper use of ranch tools. Stable Hands will also have the opportunity to learn about the care of other farm animals. There will be a strong emphasis of life skill development including responsibility\, team work\, communication\, etc. Rubber boots and work gloves are recommended for participants. Participants will need to pack a lunch and snack. Participants are welcome to participate in any of the Stable Hand Program Dates without having to participate in a 3 day lesson program series. Sign ups available with registration for 3 day horsemanship series or by following the link below. There will be additional Stable Hand Program Dates added weekly throughout the summer following the intermediate horsemanship lessons. \n\nTime: 12:30-4pm\nStable Hand Program-All 3 days- $180 or $65 per day\n\nStable Hand 3 Day Series Dates (additional single day dates will be added throughout the summer): \n\nJune 15-17\, 2026\nJune 30-July 2\nJuly 21-23\nAugust 10-12\nAugust 24-26\n\nRegistration: https://campscui.active.com/orgs/CedarRidgeEquineLLC?season=3757032&session=69393632
URL:https://cedarridgeequine.com/event/stable-hand-program/
ATTACH;FMTTYPE=image/jpeg:https://cedarridgeequine.com/wp-content/uploads/2026/01/IMG_2697-scaled.jpeg
END:VEVENT
END:VCALENDAR