BEGIN:VCALENDAR
VERSION:2.0
PRODID:-//Cedar Ridge Equine - Home of JA Performance Horses - ECPv6.15.14//NONSGML v1.0//EN
CALSCALE:GREGORIAN
METHOD:PUBLISH
X-ORIGINAL-URL:https://cedarridgeequine.com
X-WR-CALDESC:Events for Cedar Ridge Equine - Home of JA Performance Horses
REFRESH-INTERVAL;VALUE=DURATION:PT1H
X-Robots-Tag:noindex
X-PUBLISHED-TTL:PT1H
BEGIN:VTIMEZONE
TZID:America/Los_Angeles
BEGIN:DAYLIGHT
TZOFFSETFROM:-0800
TZOFFSETTO:-0700
TZNAME:PDT
DTSTART:20250309T100000
END:DAYLIGHT
BEGIN:STANDARD
TZOFFSETFROM:-0700
TZOFFSETTO:-0800
TZNAME:PST
DTSTART:20251102T090000
END:STANDARD
BEGIN:DAYLIGHT
TZOFFSETFROM:-0800
TZOFFSETTO:-0700
TZNAME:PDT
DTSTART:20260308T100000
END:DAYLIGHT
BEGIN:STANDARD
TZOFFSETFROM:-0700
TZOFFSETTO:-0800
TZNAME:PST
DTSTART:20261101T090000
END:STANDARD
BEGIN:DAYLIGHT
TZOFFSETFROM:-0800
TZOFFSETTO:-0700
TZNAME:PDT
DTSTART:20270314T100000
END:DAYLIGHT
BEGIN:STANDARD
TZOFFSETFROM:-0700
TZOFFSETTO:-0800
TZNAME:PST
DTSTART:20271107T090000
END:STANDARD
END:VTIMEZONE
BEGIN:VEVENT
DTSTART;VALUE=DATE:20260804
DTEND;VALUE=DATE:20260806
DTSTAMP:20260423T052525
CREATED:20260114T202616Z
LAST-MODIFIED:20260120T213310Z
UID:2501-1785801600-1785974399@cedarridgeequine.com
SUMMARY:Youth Intermediate Trail and Ranch Riding Clinic
DESCRIPTION:This clinic is open to all ages of riders that are comfortable at the walk/trot and at a minimum learning to lope/canter. Western tack is recommended. This class is designed to introduce a variety of maneuvers and trail obstacles to horse and/or rider. We will work on techniques and approaches to working through these trail obstacles challenges. Riders will have the opportunity to participate in a fun\, friendly\, trail competition on the last day of the clinic. Parents/family welcome to come and watch at the ‘Showdeo’ (2:30pm on 2nd day). \nStudents must have access to their own horse/leased horse or instructor approval to utilize a lesson horse (lesson horse use fee will apply). If you are new to CRE and would like to participate please schedule a private lesson assessment to determine your eligibility. All horses coming from off site must have proof of current vaccinations and negative coggins test. \nPlease make sure to pack snack\, lunch and plenty of water. Don’t forget hats and sunscreen! All participants receive a t-shirt with clinic. \nInstructor/s: Amber Dice and Jessica Howard \nDate: 8/4 and 8/5 \nTime: 9-3pm \nBoth Days Cost: $450 \n1st Day Only: $230 \n2nd Day Only: $230 \nLesson horse use fee entire clinic: $35 \nRegistration link: https://campscui.active.com/orgs/CedarRidgeEquineLLC?season=3757032&session=69486332
URL:https://cedarridgeequine.com/event/youth-intermediate-trail-and-ranch-riding-clinic/
LOCATION:Montana
ATTACH;FMTTYPE=image/webp:https://cedarridgeequine.com/wp-content/uploads/2025/12/Squintz-4.webp
END:VEVENT
END:VCALENDAR