BEGIN:VCALENDAR
VERSION:2.0
PRODID:-//Cedar Ridge Equine - Home of JA Performance Horses - ECPv6.15.14//NONSGML v1.0//EN
CALSCALE:GREGORIAN
METHOD:PUBLISH
X-WR-CALNAME:Cedar Ridge Equine - Home of JA Performance Horses
X-ORIGINAL-URL:https://cedarridgeequine.com
X-WR-CALDESC:Events for Cedar Ridge Equine - Home of JA Performance Horses
REFRESH-INTERVAL;VALUE=DURATION:PT1H
X-Robots-Tag:noindex
X-PUBLISHED-TTL:PT1H
BEGIN:VTIMEZONE
TZID:America/Los_Angeles
BEGIN:DAYLIGHT
TZOFFSETFROM:-0800
TZOFFSETTO:-0700
TZNAME:PDT
DTSTART:20250309T100000
END:DAYLIGHT
BEGIN:STANDARD
TZOFFSETFROM:-0700
TZOFFSETTO:-0800
TZNAME:PST
DTSTART:20251102T090000
END:STANDARD
BEGIN:DAYLIGHT
TZOFFSETFROM:-0800
TZOFFSETTO:-0700
TZNAME:PDT
DTSTART:20260308T100000
END:DAYLIGHT
BEGIN:STANDARD
TZOFFSETFROM:-0700
TZOFFSETTO:-0800
TZNAME:PST
DTSTART:20261101T090000
END:STANDARD
BEGIN:DAYLIGHT
TZOFFSETFROM:-0800
TZOFFSETTO:-0700
TZNAME:PDT
DTSTART:20270314T100000
END:DAYLIGHT
BEGIN:STANDARD
TZOFFSETFROM:-0700
TZOFFSETTO:-0800
TZNAME:PST
DTSTART:20271107T090000
END:STANDARD
END:VTIMEZONE
BEGIN:VEVENT
DTSTART;VALUE=DATE:20260810
DTEND;VALUE=DATE:20260813
DTSTAMP:20260423T064525
CREATED:20260106T141105Z
LAST-MODIFIED:20260120T215318Z
UID:2474-1786320000-1786579199@cedarridgeequine.com
SUMMARY:3 day Beginner Horsemanship Lesson Series
DESCRIPTION:In our beginner 3 half day summer lesson series\, students will spend daily time in the saddle\, on the ground horsemanship and crafting and journaling. Our priority is to provide a safe\, fun and educational experience for all of riders and horses. Riders with little to no prior horse experience are welcome to attend. All participants will need to pack a lunch/snacks daily. Participants will receive a t-shirt\, journal and take home crafts included in tuition. We do have stickers\, water bottles\, extra shirts\, and hats available for purchase for an additional cost. We are pleased to announce we are bringing back the afterooon Stable Hand Program option. Those participating in both sessions will need to make sure to pack a lunch and additional snacks/water for the afternoon. \n“Showdeo”: Event where participants can demonstrate what they worked on during the lesson series for parents. Morning Session Series Showdeo begins at 12:00 PM on 3rd day of lesson series. Stable Hands will be available after each morning of lesson series. \nThe Stable Hand program is held after the lesson series. Participants will have time for lunch and then participate in afternoon chores around the barn: this may include pen cleaning\, graining/feeding of all of the CRE animals\, horse care\, games and crafts. Participants are able to participate for a top team and top wrangling awards for those that participate in all three days. \n\n$100 mandatory deposit (Deposits are non-refundable)\n3 day lesson series price: $595\nStable Hand Program-All 3 days- $180 or $65 per day\n\nRegistration: https://campscui.active.com/orgs/CedarRidgeEquineLLC?season=3757032&session=69414931
URL:https://cedarridgeequine.com/event/3-day-beginner-horsemanship-lesson-series-summer3/
LOCATION:Montana
ATTACH;FMTTYPE=image/webp:https://cedarridgeequine.com/wp-content/uploads/2025/11/Little_Gypsy_Dancer_1.webp
END:VEVENT
BEGIN:VEVENT
DTSTART;TZID=America/Los_Angeles:20260810T183000
DTEND;TZID=America/Los_Angeles:20260810T200000
DTSTAMP:20260423T064525
CREATED:20260123T172932Z
LAST-MODIFIED:20260123T173154Z
UID:2552-1786386600-1786392000@cedarridgeequine.com
SUMMARY:CRE on Site Barrel Race #4
DESCRIPTION:CRE Summer Barrel Series:\nTo participate CRE races rider must be actively taking lessons in any of our weekly group classes offered at CRE. This series is designated for boarders/leasers/students with their own horses who are active in our lesson program\, however there will be a limited number of CRE lessons horses available for a limited number of students (must have instructor approval). Any horses attending from offsite must provide proof of current negative coggins test and proof of current vaccine record.\nWe must have a minimum of five entries to run each CRE on site race. 4D Divisional cash payouts for each weekly race (5D with enough entries) Races will be held weather permitting basis and a rescheduled date will be added if race is cancelled. \nCategories: Pee Wee (8 & under)\, Youth (17 & under) and Open (all ages)\nTime only’s available\, 1 included in each entry fee\, $5 for each after that. \nHigh Point:\nWe will have a summer high point series for those of you that are interested in winning a buckle and other awesome prizes. Participants can participate in youth and/open high point divisions but must pay a one time fee for 2026 per division per horse and rider combination.\nTo be eligible for summer end high point awards you must pay one time fee of: $65 for the entire summer per division (youth and/or open) or Pee Wees ($35) per horse and rider combination. To sign up visit: https://campscui.active.com/orgs/CedarRidgeEquineLLC?season=3593832&session=65787245 \nEntry Fees for Onsite and Sidepots: CASH\, Check or Venmo payable day of competition or prepay online at:\nOpen Entry Fee: $35\nYouth Entry Fee: $35\nPee Wee Entry Fee: $15\nExtra time onlys: $5 per run\n(Each entry includes 1 time only)\n$10 office fee per race or sidepot entry.\nFee if utilizing a CRE Lesson Horse to compete: $35.00 horse use fee \nTo register: https://campscui.active.com/orgs/CedarRidgeEquineLLC?season=3757032&session=69393732
URL:https://cedarridgeequine.com/event/cre-on-site-barrel-race-4/
LOCATION:Montana
ATTACH;FMTTYPE=image/webp:https://cedarridgeequine.com/wp-content/uploads/2025/11/Lornas-Fame-3.webp
END:VEVENT
END:VCALENDAR